Name | Last modified | Size | Description | |
---|---|---|---|---|
Parent Directory | - | |||
install-out.txt | 29-Jun-2024 06:41 | 4.1K | ||
install-summary.dcf | 29-Jun-2024 06:41 | 273 | ||
buildsrc-out.txt | 29-Jun-2024 06:41 | 922 | ||
buildsrc-summary.dcf | 29-Jun-2024 06:41 | 463 | ||
checksrc-out.txt | 29-Jun-2024 06:41 | 5.1K | ||
checksrc-summary.dcf | 29-Jun-2024 06:41 | 457 | ||
buildbin-out.txt | 29-Jun-2024 06:41 | 4.2K | ||
buildbin-summary.dcf | 29-Jun-2024 06:41 | 530 | ||