Index of /checkResults/release/bioc-LATEST/miRspongeR/raw-results/nebbiolo2

[ICO]NameLast modifiedSizeDescription

[DIR]Parent Directory  -  
[TXT]buildsrc-out.txt03-Mar-2024 01:35 887  
[   ]buildsrc-summary.dcf03-Mar-2024 01:35 425  
[TXT]checksrc-out.txt03-Mar-2024 01:35 4.7K 
[   ]checksrc-summary.dcf03-Mar-2024 01:35 424  
[TXT]install-out.txt03-Mar-2024 01:35 3.9K 
[   ]install-summary.dcf03-Mar-2024 01:35 264