Index of /checkResults/release/bioc-LATEST/miRspongeR/raw-results/lconway

[ICO]NameLast modifiedSizeDescription

[DIR]Parent Directory  -  
[TXT]buildbin-out.txt23-Feb-2024 01:37 6.2K 
[   ]buildbin-summary.dcf23-Feb-2024 01:37 543  
[TXT]buildsrc-out.txt23-Feb-2024 01:37 897  
[   ]buildsrc-summary.dcf23-Feb-2024 01:37 435  
[TXT]checksrc-out.txt23-Feb-2024 01:37 4.7K 
[   ]checksrc-summary.dcf23-Feb-2024 01:37 454  
[TXT]install-out.txt23-Feb-2024 01:37 4.3K 
[   ]install-summary.dcf23-Feb-2024 01:37 274