Index of /checkResults/release/bioc-LATEST/miRspongeR/raw-results/kunpeng2

[ICO]NameLast modifiedSizeDescription

[DIR]Parent Directory  -  
[TXT]buildsrc-out.txt03-Nov-2023 00:40 881  
[   ]buildsrc-summary.dcf03-Nov-2023 00:40 417  
[TXT]checksrc-out.txt03-Nov-2023 00:40 5.5K 
[   ]checksrc-summary.dcf03-Nov-2023 00:40 431  
[TXT]install-out.txt03-Nov-2023 00:40 3.9K 
[   ]install-summary.dcf03-Nov-2023 00:40 258