Name | Last modified | Size | Description | |
---|---|---|---|---|
Parent Directory | - | |||
install-summary.dcf | 12-Jun-2024 03:44 | 274 | ||
install-out.txt | 12-Jun-2024 03:44 | 4.3K | ||
checksrc-summary.dcf | 12-Jun-2024 03:44 | 454 | ||
checksrc-out.txt | 12-Jun-2024 03:44 | 4.7K | ||
buildsrc-summary.dcf | 12-Jun-2024 03:44 | 435 | ||
buildsrc-out.txt | 12-Jun-2024 03:44 | 897 | ||
buildbin-summary.dcf | 12-Jun-2024 03:44 | 543 | ||
buildbin-out.txt | 12-Jun-2024 03:44 | 6.2K | ||