Index of /checkResults/release/bioc-LATEST/miRmine/raw-results/kjohnson
Name
Last modified
Size
Description
Parent Directory
-
buildsrc-out.txt
08-Jul-2022 00:11
1.0K
buildsrc-summary.dcf
08-Jul-2022 00:11
343
install-out.txt
12-Jul-2022 00:06
1.0K
install-summary.dcf
12-Jul-2022 00:06
269