Index of /checkResults/release/bioc-LATEST/miRmine/raw-results
Name
Last modified
Size
Description
Parent Directory
-
info.dcf
28-May-2023 00:06
288
merida1/
28-May-2023 00:06
-
nebbiolo1/
28-May-2023 00:05
-
palomino3/
28-May-2023 00:05
-