Index of /checkResults/release/bioc-LATEST/miRmine/raw-results

[ICO]NameLast modifiedSizeDescription

[DIR]Parent Directory  -  
[   ]info.dcf08-Feb-2023 01:06 288  
[DIR]kjohnson/12-Jul-2022 00:06 -  
[DIR]lconway/08-Feb-2023 01:06 -  
[DIR]nebbiolo2/08-Feb-2023 01:05 -  
[DIR]palomino4/08-Feb-2023 01:06 -