Name | Last modified | Size | Description | |
---|---|---|---|---|
Parent Directory | - | |||
install-out.txt | 05-Mar-2024 01:39 | 1.9K | ||
install-summary.dcf | 05-Mar-2024 01:39 | 266 | ||
buildsrc-out.txt | 05-Mar-2024 01:39 | 901 | ||
buildsrc-summary.dcf | 05-Mar-2024 01:39 | 422 | ||
checksrc-out.txt | 05-Mar-2024 01:39 | 3.9K | ||
checksrc-summary.dcf | 05-Mar-2024 01:39 | 436 | ||
buildbin-out.txt | 05-Mar-2024 01:39 | 3.7K | ||
buildbin-summary.dcf | 05-Mar-2024 01:39 | 519 | ||