Back to Multiple platform build/check report for BioC 3.14
ABCDEFGHIJKL[M]NOPQRSTUVWXYZ

This page was generated on 2021-12-03 13:05:22 -0500 (Fri, 03 Dec 2021).

BUILD BIN results for miRNApath on tokay2

To the developers/maintainers of the miRNApath package:
- Please allow up to 24 hours (and sometimes 48 hours) for your latest push to git@git.bioconductor.org:packages/miRNApath.git to
reflect on this report. See How and When does the builder pull? When will my changes propagate? here for more information.
- Make sure to use the following settings in order to reproduce any error or warning you see on this page.

raw results

Package 1168/2083HostnameOS / ArchINSTALLBUILDCHECKBUILD BIN
miRNApath 1.54.0  (landing page)
James M. Ward
Snapshot Date: 2021-12-02 01:55:06 -0500 (Thu, 02 Dec 2021)
git_url: https://git.bioconductor.org/packages/miRNApath
git_branch: RELEASE_3_14
git_last_commit: 43147ac
git_last_commit_date: 2021-10-26 11:52:33 -0500 (Tue, 26 Oct 2021)
nebbiolo2Linux (Ubuntu 20.04.3 LTS) / x86_64  OK    OK    OK  UNNEEDED, same version is already published
tokay2Windows Server 2012 R2 Standard / x64  OK    OK    OK    OK  UNNEEDED, same version is already published
machv2macOS 10.14.6 Mojave / x86_64  OK    OK    OK    OK  UNNEEDED, same version is already published

Summary

Package: miRNApath
Version: 1.54.0
Command: rm -rf miRNApath.buildbin-libdir && mkdir miRNApath.buildbin-libdir && C:\Users\biocbuild\bbs-3.14-bioc\R\bin\R.exe CMD INSTALL --merge-multiarch --build --library=miRNApath.buildbin-libdir miRNApath_1.54.0.tar.gz
StartedAt: 2021-12-03 08:48:27 -0500 (Fri, 03 Dec 2021)
EndedAt: 2021-12-03 08:49:56 -0500 (Fri, 03 Dec 2021)
EllapsedTime: 89.0 seconds
RetCode: 0
Status:   OK  
PackageFile: miRNApath_1.54.0.zip
PackageFileSize: 791.6 KiB

Command output

##############################################################################
##############################################################################
###
### Running command:
###
###   rm -rf miRNApath.buildbin-libdir && mkdir miRNApath.buildbin-libdir && C:\Users\biocbuild\bbs-3.14-bioc\R\bin\R.exe CMD INSTALL --merge-multiarch --build --library=miRNApath.buildbin-libdir miRNApath_1.54.0.tar.gz
###
##############################################################################
##############################################################################



install for i386

* installing *source* package 'miRNApath' ...
** using staged installation
** R
** data
** inst
** byte-compile and prepare package for lazy loading
** help
*** installing help indices
  converting help for package 'miRNApath'
    finding HTML links ... done
    checkColumns                            html  
    convertFoldChange                       html  
    filtermirnapath                         html  
    loadmirnapath                           html  
    loadmirnapathways                       html  
    loadmirnatogene                         html  
    miRNApath-package                       html  
    mirnaTable                              html  
    mirnaobj                                html  
    mirnapath-class                         html  
    runEnrichment                           html  
** building package indices
** installing vignettes
** testing if installed package can be loaded from temporary location
** testing if installed package can be loaded from final location
** testing if installed package keeps a record of temporary installation path

install for x64

* installing *source* package 'miRNApath' ...
** testing if installed package can be loaded
* MD5 sums
packaged installation of 'miRNApath' as miRNApath_1.54.0.zip
* DONE (miRNApath)