Index of /checkResults/release/bioc-LATEST/miRNAmeConverter/raw-results/palomino4

[ICO]NameLast modifiedSizeDescription

[DIR]Parent Directory  -  
[TXT]buildbin-out.txt03-Mar-2024 01:36 1.4K 
[   ]buildbin-summary.dcf03-Mar-2024 01:36 569  
[TXT]buildsrc-out.txt03-Mar-2024 01:36 954  
[   ]buildsrc-summary.dcf03-Mar-2024 01:36 487  
[TXT]checksrc-out.txt03-Mar-2024 01:36 3.9K 
[   ]checksrc-summary.dcf03-Mar-2024 01:36 489  
[TXT]install-out.txt03-Mar-2024 01:36 1.2K 
[   ]install-summary.dcf03-Mar-2024 01:36 286