Name | Last modified | Size | Description | |
---|---|---|---|---|
Parent Directory | - | |||
buildbin-out.txt | 29-Jun-2024 06:41 | 1.4K | ||
buildbin-summary.dcf | 29-Jun-2024 06:41 | 569 | ||
buildsrc-out.txt | 29-Jun-2024 06:41 | 954 | ||
buildsrc-summary.dcf | 29-Jun-2024 06:41 | 487 | ||
checksrc-out.txt | 29-Jun-2024 06:41 | 4.4K | ||
checksrc-summary.dcf | 29-Jun-2024 06:41 | 489 | ||
install-out.txt | 29-Jun-2024 06:41 | 1.2K | ||
install-summary.dcf | 29-Jun-2024 06:41 | 286 | ||