Name | Last modified | Size | Description | |
---|---|---|---|---|
Parent Directory | - | |||
buildbin-summary.dcf | 12-Jun-2024 03:42 | 584 | ||
buildbin-out.txt | 12-Jun-2024 03:42 | 1.5K | ||
checksrc-summary.dcf | 12-Jun-2024 03:42 | 486 | ||
checksrc-out.txt | 12-Jun-2024 03:42 | 4.3K | ||
buildsrc-summary.dcf | 12-Jun-2024 03:42 | 453 | ||
buildsrc-out.txt | 12-Jun-2024 03:42 | 930 | ||
install-out.txt | 12-Jun-2024 03:42 | 1.3K | ||
install-summary.dcf | 12-Jun-2024 03:42 | 287 | ||