Index of /checkResults/release/bioc-LATEST/miRLAB/raw-results

[ICO]NameLast modifiedSizeDescription

[DIR]Parent Directory  -  
[   ]info.dcf02-Dec-2023 01:37 268  
[DIR]kunpeng2/03-Nov-2023 00:40 -  
[DIR]lconway/02-Dec-2023 01:37 -  
[DIR]nebbiolo2/02-Dec-2023 01:36 -  
[DIR]palomino4/02-Dec-2023 01:36 -