Index of /checkResults/release/bioc-LATEST/miQC/raw-results
Name
Last modified
Size
Description
Parent Directory
-
kunpeng2/
10-May-2024 00:41
-
lconway/
12-May-2024 00:37
-
merida1/
05-Mar-2024 01:39
-
nebbiolo1/
12-May-2024 00:36
-
palomino3/
12-May-2024 00:37
-
info.dcf
12-May-2024 00:35
267