Back to Multiple platform build/check report for BioC 3.14
ABCDEFGHIJKL[M]NOPQRSTUVWXYZ

This page was generated on 2022-01-14 13:06:42 -0500 (Fri, 14 Jan 2022).

HostnameOSArch (*)R versionInstalled pkgs
nebbiolo2Linux (Ubuntu 20.04.4 LTS)x86_644.1.2 (2021-11-01) -- "Bird Hippie" 4327
tokay2Windows Server 2012 R2 Standardx644.1.2 (2021-11-01) -- "Bird Hippie" 4076
machv2macOS 10.14.6 Mojavex86_644.1.2 (2021-11-01) -- "Bird Hippie" 4137
Click on any hostname to see more info about the system (e.g. compilers)      (*) as reported by 'uname -p', except on Windows and Mac OS X

BUILD results for mgsa on tokay2


To the developers/maintainers of the mgsa package:
- Please allow up to 24 hours (and sometimes 48 hours) for your latest push to git@git.bioconductor.org:packages/mgsa.git to
reflect on this report. See How and When does the builder pull? When will my changes propagate? here for more information.
- Make sure to use the following settings in order to reproduce any error or warning you see on this page.

raw results

Package 1136/2083HostnameOS / ArchINSTALLBUILDCHECKBUILD BIN
mgsa 1.42.0  (landing page)
Sebastian Bauer
Snapshot Date: 2022-01-13 01:55:04 -0500 (Thu, 13 Jan 2022)
git_url: https://git.bioconductor.org/packages/mgsa
git_branch: RELEASE_3_14
git_last_commit: 1e5d21e
git_last_commit_date: 2021-10-26 11:57:50 -0500 (Tue, 26 Oct 2021)
nebbiolo2Linux (Ubuntu 20.04.4 LTS) / x86_64  OK    OK    OK  UNNEEDED, same version is already published
tokay2Windows Server 2012 R2 Standard / x64  OK    OK    OK    OK  UNNEEDED, same version is already published
machv2macOS 10.14.6 Mojave / x86_64  OK    OK    OK    OK  UNNEEDED, same version is already published

Summary

Package: mgsa
Version: 1.42.0
Command: chmod a+r mgsa -R && C:\Users\biocbuild\bbs-3.14-bioc\R\bin\R.exe CMD build --keep-empty-dirs --no-resave-data mgsa
StartedAt: 2022-01-13 12:08:37 -0500 (Thu, 13 Jan 2022)
EndedAt: 2022-01-13 12:09:00 -0500 (Thu, 13 Jan 2022)
EllapsedTime: 23.2 seconds
RetCode: 0
Status:   OK  
PackageFile: mgsa_1.42.0.tar.gz
PackageFileSize: 355.4 KiB

Command output

##############################################################################
##############################################################################
###
### Running command:
###
###   chmod a+r mgsa -R && C:\Users\biocbuild\bbs-3.14-bioc\R\bin\R.exe CMD build --keep-empty-dirs --no-resave-data mgsa
###
##############################################################################
##############################################################################


* checking for file 'mgsa/DESCRIPTION' ... OK
* preparing 'mgsa':
* checking DESCRIPTION meta-information ... OK
* cleaning src
* installing the package to build vignettes
* creating vignettes ... OK
* cleaning src
* checking for LF line-endings in source and make files and shell scripts
* checking for empty or unneeded directories
* looking to see if a 'data/datalist' file should be added
* building 'mgsa_1.42.0.tar.gz'
Warning: file 'mgsa/cleanup' did not have execute permissions: corrected
Warning: file 'mgsa/configure' did not have execute permissions: corrected