Back to Multiple platform build/check report for BioC 3.14
ABCDEFGHIJKL[M]NOPQRSTUVWXYZ

This page was generated on 2022-01-14 13:06:42 -0500 (Fri, 14 Jan 2022).

HostnameOSArch (*)R versionInstalled pkgs
nebbiolo2Linux (Ubuntu 20.04.4 LTS)x86_644.1.2 (2021-11-01) -- "Bird Hippie" 4327
tokay2Windows Server 2012 R2 Standardx644.1.2 (2021-11-01) -- "Bird Hippie" 4076
machv2macOS 10.14.6 Mojavex86_644.1.2 (2021-11-01) -- "Bird Hippie" 4137
Click on any hostname to see more info about the system (e.g. compilers)      (*) as reported by 'uname -p', except on Windows and Mac OS X

BUILD BIN results for mgsa on tokay2


To the developers/maintainers of the mgsa package:
- Please allow up to 24 hours (and sometimes 48 hours) for your latest push to git@git.bioconductor.org:packages/mgsa.git to
reflect on this report. See How and When does the builder pull? When will my changes propagate? here for more information.
- Make sure to use the following settings in order to reproduce any error or warning you see on this page.

raw results

Package 1136/2083HostnameOS / ArchINSTALLBUILDCHECKBUILD BIN
mgsa 1.42.0  (landing page)
Sebastian Bauer
Snapshot Date: 2022-01-13 01:55:04 -0500 (Thu, 13 Jan 2022)
git_url: https://git.bioconductor.org/packages/mgsa
git_branch: RELEASE_3_14
git_last_commit: 1e5d21e
git_last_commit_date: 2021-10-26 11:57:50 -0500 (Tue, 26 Oct 2021)
nebbiolo2Linux (Ubuntu 20.04.4 LTS) / x86_64  OK    OK    OK  UNNEEDED, same version is already published
tokay2Windows Server 2012 R2 Standard / x64  OK    OK    OK    OK  UNNEEDED, same version is already published
machv2macOS 10.14.6 Mojave / x86_64  OK    OK    OK    OK  UNNEEDED, same version is already published

Summary

Package: mgsa
Version: 1.42.0
Command: rm -rf mgsa.buildbin-libdir && mkdir mgsa.buildbin-libdir && C:\Users\biocbuild\bbs-3.14-bioc\R\bin\R.exe CMD INSTALL --merge-multiarch --build --library=mgsa.buildbin-libdir mgsa_1.42.0.tar.gz
StartedAt: 2022-01-14 06:03:43 -0500 (Fri, 14 Jan 2022)
EndedAt: 2022-01-14 06:03:56 -0500 (Fri, 14 Jan 2022)
EllapsedTime: 13.2 seconds
RetCode: 0
Status:   OK  
PackageFile: mgsa_1.42.0.zip
PackageFileSize: 548.1 KiB

Command output

##############################################################################
##############################################################################
###
### Running command:
###
###   rm -rf mgsa.buildbin-libdir && mkdir mgsa.buildbin-libdir && C:\Users\biocbuild\bbs-3.14-bioc\R\bin\R.exe CMD INSTALL --merge-multiarch --build --library=mgsa.buildbin-libdir mgsa_1.42.0.tar.gz
###
##############################################################################
##############################################################################



install for i386

* installing *source* package 'mgsa' ...
** using staged installation

   **********************************************
   WARNING: this package has a configure script
         It probably needs manual configuration
   **********************************************


** libs
"C:/rtools40/mingw32/bin/"gcc  -I"C:/Users/BIOCBU~1/BBS-3~1.14-/R/include" -DNDEBUG     -I"C:/extsoft/include"     -O2 -Wall  -std=gnu99 -mfpmath=sse -msse2 -mstackrealign  -c mgsa-core.c -o mgsa-core.o
mgsa-core.c: In function 'ts_R_alloc':
mgsa-core.c:56: warning: ignoring #pragma omp critical [-Wunknown-pragmas]
 #pragma omp critical
 
"C:/rtools40/mingw32/bin/"gcc  -I"C:/Users/BIOCBU~1/BBS-3~1.14-/R/include" -DNDEBUG     -I"C:/extsoft/include"     -O2 -Wall  -std=gnu99 -mfpmath=sse -msse2 -mstackrealign  -c mgsa.c -o mgsa.o
mgsa.c: In function 'mgsa_mcmc':
mgsa.c:552: warning: ignoring #pragma omp parallel [-Wunknown-pragmas]
 #pragma omp parallel for
 
mgsa.c:558: warning: ignoring #pragma omp critical [-Wunknown-pragmas]
 #pragma omp critical
 
"C:/rtools40/mingw32/bin/"gcc  -I"C:/Users/BIOCBU~1/BBS-3~1.14-/R/include" -DNDEBUG     -I"C:/extsoft/include"     -O2 -Wall  -std=gnu99 -mfpmath=sse -msse2 -mstackrealign  -c mt.c -o mt.o
C:/rtools40/mingw32/bin/gcc -shared -s -static-libgcc -o mgsa.dll tmp.def mgsa-core.o mgsa.o mt.o -LC:/extsoft/lib/i386 -LC:/extsoft/lib -LC:/Users/BIOCBU~1/BBS-3~1.14-/R/bin/i386 -lR
installing to C:/Users/biocbuild/bbs-3.14-bioc/meat/mgsa.buildbin-libdir/00LOCK-mgsa/00new/mgsa/libs/i386
** R
** data
** inst
** byte-compile and prepare package for lazy loading
** help
*** installing help indices
  converting help for package 'mgsa'
    finding HTML links ... done
    MgsaGoSets-class                        html  
    MgsaMcmcResults-class                   html  
    MgsaResults-class                       html  
    MgsaSets-class                          html  
    alphaMcmcPost-methods                   html  
    alphaPost-methods                       html  
    betaMcmcPost-methods                    html  
    betaPost-methods                        html  
    createMgsaGoSets                        html  
    example-go                              html  
    example-o                               html  
    itemAnnotations-methods                 html  
    itemIndices-methods                     html  
    length-methods                          html  
    mgsa-methods                            html  
    mgsa-package                            html  
    nsamples-methods                        html  
    pMcmcPost-methods                       html  
    pPost-methods                           html  
    plot-MgsaResults-method                 html  
    populationSize-methods                  html  
    readGAF                                 html  
    restarts-methods                        html  
    setAnnotations-methods                  html  
    setsMcmcPost-methods                    html  
    setsResults-methods                     html  
    show-MgsaResults-method                 html  
    show-MgsaSets-method                    html  
    steps-methods                           html  
    studySetSizeInPopulation-methods        html  
    subMgsaSets-methods                     html  
** building package indices
** installing vignettes
** testing if installed package can be loaded from temporary location
** testing if installed package can be loaded from final location
** testing if installed package keeps a record of temporary installation path

install for x64

* installing *source* package 'mgsa' ...

   **********************************************
   WARNING: this package has a configure script
         It probably needs manual configuration
   **********************************************


** libs
"C:/rtools40/mingw64/bin/"gcc  -I"C:/Users/BIOCBU~1/BBS-3~1.14-/R/include" -DNDEBUG     -I"C:/extsoft/include"     -O2 -Wall  -std=gnu99 -mfpmath=sse -msse2 -mstackrealign  -c mgsa-core.c -o mgsa-core.o
mgsa-core.c: In function 'ts_R_alloc':
mgsa-core.c:56: warning: ignoring #pragma omp critical [-Wunknown-pragmas]
 #pragma omp critical
 
"C:/rtools40/mingw64/bin/"gcc  -I"C:/Users/BIOCBU~1/BBS-3~1.14-/R/include" -DNDEBUG     -I"C:/extsoft/include"     -O2 -Wall  -std=gnu99 -mfpmath=sse -msse2 -mstackrealign  -c mgsa.c -o mgsa.o
mgsa.c: In function 'mgsa_mcmc':
mgsa.c:552: warning: ignoring #pragma omp parallel [-Wunknown-pragmas]
 #pragma omp parallel for
 
mgsa.c:558: warning: ignoring #pragma omp critical [-Wunknown-pragmas]
 #pragma omp critical
 
"C:/rtools40/mingw64/bin/"gcc  -I"C:/Users/BIOCBU~1/BBS-3~1.14-/R/include" -DNDEBUG     -I"C:/extsoft/include"     -O2 -Wall  -std=gnu99 -mfpmath=sse -msse2 -mstackrealign  -c mt.c -o mt.o
C:/rtools40/mingw64/bin/gcc -shared -s -static-libgcc -o mgsa.dll tmp.def mgsa-core.o mgsa.o mt.o -LC:/extsoft/lib/x64 -LC:/extsoft/lib -LC:/Users/BIOCBU~1/BBS-3~1.14-/R/bin/x64 -lR
installing to C:/Users/biocbuild/bbs-3.14-bioc/meat/mgsa.buildbin-libdir/mgsa/libs/x64
** testing if installed package can be loaded
* MD5 sums
packaged installation of 'mgsa' as mgsa_1.42.0.zip
* DONE (mgsa)