Index of /checkResults/release/bioc-LATEST/mgsa/raw-results/nebbiolo2

[ICO]NameLast modifiedSizeDescription

[DIR]Parent Directory  -  
[TXT]buildsrc-out.txt31-Jan-2023 01:05 935  
[   ]buildsrc-summary.dcf31-Jan-2023 01:05 408  
[TXT]checksrc-out.txt31-Jan-2023 01:05 6.7K 
[   ]checksrc-summary.dcf31-Jan-2023 01:05 396  
[TXT]install-out.txt31-Jan-2023 01:05 1.7K 
[   ]install-summary.dcf31-Jan-2023 01:05 253