Index of /checkResults/release/bioc-LATEST/mgsa/raw-results/lconway

[ICO]NameLast modifiedSizeDescription

[DIR]Parent Directory  -  
[TXT]buildbin-out.txt31-Jan-2023 01:08 2.8K 
[   ]buildbin-summary.dcf31-Jan-2023 01:08 511  
[TXT]buildsrc-out.txt31-Jan-2023 01:08 945  
[   ]buildsrc-summary.dcf31-Jan-2023 01:08 418  
[TXT]checksrc-out.txt31-Jan-2023 01:08 6.7K 
[   ]checksrc-summary.dcf31-Jan-2023 01:08 431  
[TXT]install-out.txt31-Jan-2023 01:08 2.0K 
[   ]install-summary.dcf31-Jan-2023 01:08 263