Index of /checkResults/release/bioc-LATEST/mgsa/raw-results/kjohnson

[ICO]NameLast modifiedSizeDescription

[DIR]Parent Directory  -  
[TXT]buildbin-out.txt08-Jul-2022 00:11 2.4K 
[   ]buildbin-summary.dcf08-Jul-2022 00:11 434  
[TXT]buildsrc-out.txt08-Jul-2022 00:11 945  
[   ]buildsrc-summary.dcf08-Jul-2022 00:11 418  
[TXT]install-out.txt12-Jul-2022 00:06 2.0K 
[   ]install-summary.dcf12-Jul-2022 00:06 263