Index of /checkResults/release/bioc-LATEST/mgsa/raw-results

[ICO]NameLast modifiedSizeDescription

[DIR]Parent Directory  -  
[DIR]kjohnson/12-Jul-2022 00:06 -  
[DIR]nebbiolo2/29-Jan-2023 01:05 -  
[DIR]palomino4/29-Jan-2023 01:07 -  
[   ]info.dcf29-Jan-2023 01:08 272  
[DIR]lconway/29-Jan-2023 01:08 -