Back to Multiple platform build/check report for BioC 3.14
ABCDEFGHIJKL[M]NOPQRSTUVWXYZ

This page was generated on 2022-01-17 13:05:20 -0500 (Mon, 17 Jan 2022).

HostnameOSArch (*)R versionInstalled pkgs
nebbiolo2Linux (Ubuntu 20.04.4 LTS)x86_644.1.2 (2021-11-01) -- "Bird Hippie" 4328
tokay2Windows Server 2012 R2 Standardx644.1.2 (2021-11-01) -- "Bird Hippie" 4077
machv2macOS 10.14.6 Mojavex86_644.1.2 (2021-11-01) -- "Bird Hippie" 4138
Click on any hostname to see more info about the system (e.g. compilers)      (*) as reported by 'uname -p', except on Windows and Mac OS X

CHECK results for mgsa on nebbiolo2


To the developers/maintainers of the mgsa package:
- Please allow up to 24 hours (and sometimes 48 hours) for your latest push to git@git.bioconductor.org:packages/mgsa.git to
reflect on this report. See How and When does the builder pull? When will my changes propagate? here for more information.
- Make sure to use the following settings in order to reproduce any error or warning you see on this page.

raw results

Package 1136/2083HostnameOS / ArchINSTALLBUILDCHECKBUILD BIN
mgsa 1.42.0  (landing page)
Sebastian Bauer
Snapshot Date: 2022-01-16 01:55:05 -0500 (Sun, 16 Jan 2022)
git_url: https://git.bioconductor.org/packages/mgsa
git_branch: RELEASE_3_14
git_last_commit: 1e5d21e
git_last_commit_date: 2021-10-26 11:57:50 -0500 (Tue, 26 Oct 2021)
nebbiolo2Linux (Ubuntu 20.04.4 LTS) / x86_64  OK    OK    OK  UNNEEDED, same version is already published
tokay2Windows Server 2012 R2 Standard / x64  OK    OK    OK    OK  UNNEEDED, same version is already published
machv2macOS 10.14.6 Mojave / x86_64  OK    OK    OK    OK  UNNEEDED, same version is already published

Summary

Package: mgsa
Version: 1.42.0
Command: /home/biocbuild/bbs-3.14-bioc/R/bin/R CMD check --install=check:mgsa.install-out.txt --library=/home/biocbuild/bbs-3.14-bioc/R/library --no-vignettes --timings mgsa_1.42.0.tar.gz
StartedAt: 2022-01-16 08:39:56 -0500 (Sun, 16 Jan 2022)
EndedAt: 2022-01-16 08:40:32 -0500 (Sun, 16 Jan 2022)
EllapsedTime: 36.6 seconds
RetCode: 0
Status:   OK  
CheckDir: mgsa.Rcheck
Warnings: 0

Command output

##############################################################################
##############################################################################
###
### Running command:
###
###   /home/biocbuild/bbs-3.14-bioc/R/bin/R CMD check --install=check:mgsa.install-out.txt --library=/home/biocbuild/bbs-3.14-bioc/R/library --no-vignettes --timings mgsa_1.42.0.tar.gz
###
##############################################################################
##############################################################################


* using log directory ‘/home/biocbuild/bbs-3.14-bioc/meat/mgsa.Rcheck’
* using R version 4.1.2 (2021-11-01)
* using platform: x86_64-pc-linux-gnu (64-bit)
* using session charset: UTF-8
* using option ‘--no-vignettes’
* checking for file ‘mgsa/DESCRIPTION’ ... OK
* this is package ‘mgsa’ version ‘1.42.0’
* checking package namespace information ... OK
* checking package dependencies ... OK
* checking if this is a source package ... OK
* checking if there is a namespace ... OK
* checking for hidden files and directories ... OK
* checking for portable file names ... OK
* checking for sufficient/correct file permissions ... OK
* checking whether package ‘mgsa’ can be installed ... OK
* checking installed package size ... OK
* checking package directory ... OK
* checking ‘build’ directory ... OK
* checking DESCRIPTION meta-information ... OK
* checking top-level files ... OK
* checking for left-over files ... OK
* checking index information ... OK
* checking package subdirectories ... OK
* checking R files for non-ASCII characters ... OK
* checking R files for syntax errors ... OK
* checking whether the package can be loaded ... OK
* checking whether the package can be loaded with stated dependencies ... OK
* checking whether the package can be unloaded cleanly ... OK
* checking whether the namespace can be loaded with stated dependencies ... NOTE
Warning: no function found corresponding to methods exports from ‘mgsa’ for: ‘show’

A namespace must be able to be loaded with just the base namespace
loaded: otherwise if the namespace gets loaded by a saved object, the
session will be unable to start.

Probably some imports need to be declared in the NAMESPACE file.
* checking whether the namespace can be unloaded cleanly ... OK
* checking dependencies in R code ... NOTE
'library' or 'require' call to ‘gplots’ which was already attached by Depends.
  Please remove these calls from your code.
'library' or 'require' calls in package code:
  ‘DBI’ ‘GO.db’ ‘RSQLite’
  Please use :: or requireNamespace() instead.
  See section 'Suggested packages' in the 'Writing R Extensions' manual.
Namespaces in Imports field not imported from:
  ‘stats’ ‘utils’
  All declared Imports should be used.
Packages in Depends field not imported from:
  ‘gplots’ ‘methods’
  These packages need to be imported from (in the NAMESPACE file)
  for when this namespace is loaded but not attached.
* checking S3 generic/method consistency ... OK
* checking replacement functions ... OK
* checking foreign function calls ... OK
* checking R code for possible problems ... NOTE
createMgsaGoSets: no visible global function definition for ‘new’
mcmcSummary: no visible binding for global variable ‘sd’
mgsa.wrapper: no visible global function definition for ‘str’
mgsa.wrapper: no visible global function definition for ‘new’
readGAF: no visible global function definition for ‘read.delim’
readGAF: no visible global function definition for ‘na.omit’
readGAF: no visible global function definition for ‘new’
initialize,MgsaSets: no visible global function definition for
  ‘callNextMethod’
initialize,MgsaSets: no visible global function definition for ‘relist’
mgsa,character-MgsaSets: no visible global function definition for
  ‘na.omit’
plot,MgsaResults: no visible global function definition for
  ‘split.screen’
plot,MgsaResults: no visible global function definition for ‘screen’
plot,MgsaResults: no visible global function definition for ‘par’
plot,MgsaResults: no visible global function definition for ‘barplot2’
plot,MgsaResults: no visible global function definition for
  ‘close.screen’
Undefined global functions or variables:
  barplot2 callNextMethod close.screen na.omit new par read.delim
  relist screen sd split.screen str
Consider adding
  importFrom("graphics", "close.screen", "par", "screen", "split.screen")
  importFrom("methods", "callNextMethod", "new")
  importFrom("stats", "na.omit", "sd")
  importFrom("utils", "read.delim", "relist", "str")
to your NAMESPACE file (and ensure that your DESCRIPTION Imports field
contains 'methods').
* checking Rd files ... OK
* checking Rd metadata ... OK
* checking Rd cross-references ... OK
* checking for missing documentation entries ... OK
* checking for code/documentation mismatches ... OK
* checking Rd \usage sections ... OK
* checking Rd contents ... OK
* checking for unstated dependencies in examples ... OK
* checking contents of ‘data’ directory ... OK
* checking data for non-ASCII characters ... OK
* checking data for ASCII and uncompressed saves ... OK
* checking line endings in shell scripts ... OK
* checking line endings in C/C++/Fortran sources/headers ... OK
* checking line endings in Makefiles ... OK
* checking compilation flags in Makevars ... OK
* checking for GNU extensions in Makefiles ... OK
* checking for portable use of $(BLAS_LIBS) and $(LAPACK_LIBS) ... OK
* checking use of PKG_*FLAGS in Makefiles ... NOTE
   PKG_CXXFLAGS set in ‘src/Makevars.in’ without any corresponding files
* checking compiled code ... NOTE
Note: information on .o files is not available
File ‘/home/biocbuild/bbs-3.14-bioc/R/library/mgsa/libs/mgsa.so’:
  Found ‘__printf_chk’, possibly from ‘printf’ (C)

Compiled code should not call entry points which might terminate R nor
write to stdout/stderr instead of to the console, nor use Fortran I/O
nor system RNGs. The detected symbols are linked into the code but
might come from libraries and not actually be called.

See ‘Writing portable packages’ in the ‘Writing R Extensions’ manual.
* checking files in ‘vignettes’ ... OK
* checking examples ... OK
Examples with CPU (user + system) or elapsed time > 5s
        user system elapsed
readGAF 4.91  0.576   5.485
* checking for unstated dependencies in ‘tests’ ... OK
* checking tests ...
  Running ‘testthat.R’
 OK
* checking for unstated dependencies in vignettes ... OK
* checking package vignettes in ‘inst/doc’ ... OK
* checking running R code from vignettes ... SKIPPED
* checking re-building of vignette outputs ... SKIPPED
* checking PDF version of manual ... OK
* DONE

Status: 5 NOTEs
See
  ‘/home/biocbuild/bbs-3.14-bioc/meat/mgsa.Rcheck/00check.log’
for details.



Installation output

mgsa.Rcheck/00install.out

##############################################################################
##############################################################################
###
### Running command:
###
###   /home/biocbuild/bbs-3.14-bioc/R/bin/R CMD INSTALL mgsa
###
##############################################################################
##############################################################################


* installing to library ‘/home/biocbuild/bbs-3.14-bioc/R/library’
* installing *source* package ‘mgsa’ ...
** using staged installation
configure: creating ./config.status
config.status: creating src/Makevars
** libs
gcc -I"/home/biocbuild/bbs-3.14-bioc/R/include" -DNDEBUG   -I/usr/local/include  -I. -fopenmp -fpic  -g -O2  -Wall -c mgsa-core.c -o mgsa-core.o
gcc -I"/home/biocbuild/bbs-3.14-bioc/R/include" -DNDEBUG   -I/usr/local/include  -I. -fopenmp -fpic  -g -O2  -Wall -c mgsa.c -o mgsa.o
gcc -I"/home/biocbuild/bbs-3.14-bioc/R/include" -DNDEBUG   -I/usr/local/include  -I. -fopenmp -fpic  -g -O2  -Wall -c mt.c -o mt.o
gcc -shared -L/home/biocbuild/bbs-3.14-bioc/R/lib -L/usr/local/lib -o mgsa.so mgsa-core.o mgsa.o mt.o -fopenmp -L/home/biocbuild/bbs-3.14-bioc/R/lib -lR
installing to /home/biocbuild/bbs-3.14-bioc/R/library/00LOCK-mgsa/00new/mgsa/libs
** R
** data
** inst
** byte-compile and prepare package for lazy loading
** help
*** installing help indices
** building package indices
** installing vignettes
** testing if installed package can be loaded from temporary location
** checking absolute paths in shared objects and dynamic libraries
** testing if installed package can be loaded from final location
** testing if installed package keeps a record of temporary installation path
* DONE (mgsa)

Tests output

mgsa.Rcheck/tests/testthat.Rout


R version 4.1.2 (2021-11-01) -- "Bird Hippie"
Copyright (C) 2021 The R Foundation for Statistical Computing
Platform: x86_64-pc-linux-gnu (64-bit)

R is free software and comes with ABSOLUTELY NO WARRANTY.
You are welcome to redistribute it under certain conditions.
Type 'license()' or 'licence()' for distribution details.

R is a collaborative project with many contributors.
Type 'contributors()' for more information and
'citation()' on how to cite R or R packages in publications.

Type 'demo()' for some demos, 'help()' for on-line help, or
'help.start()' for an HTML browser interface to help.
Type 'q()' to quit R.

> library("testthat")
> library("mgsa")
Loading required package: gplots

Attaching package: 'gplots'

The following object is masked from 'package:stats':

    lowess

> 
> 
> test_check("mgsa")
[ FAIL 0 | WARN 6 | SKIP 0 | PASS 19 ]
> 
> proc.time()
   user  system elapsed 
  7.521   0.416   7.810 

Example timings

mgsa.Rcheck/mgsa-Ex.timings

nameusersystemelapsed
MgsaSets-class0.0140.0000.014
mgsa-methods0.6960.0000.640
readGAF4.9100.5765.485