Index of /checkResults/release/bioc-LATEST/methylInheritance/raw-results

[ICO]NameLast modifiedSizeDescription

[DIR]Parent Directory  -  
[   ]info.dcf13-Jul-2024 06:37 296  
[DIR]kjohnson1/13-Jul-2024 06:42 -  
[DIR]kjohnson3/12-Jun-2024 03:43 -  
[DIR]kunpeng2/10-May-2024 00:41 -  
[DIR]lconway/12-Jun-2024 03:42 -  
[DIR]merida1/13-Jul-2024 06:41 -  
[DIR]nebbiolo1/13-Jul-2024 06:38 -  
[DIR]palomino3/29-Jun-2024 06:41 -  
[DIR]palomino7/13-Jul-2024 06:40 -