Name | Last modified | Size | Description | |
---|---|---|---|---|
Parent Directory | - | |||
buildbin-out.txt | 12-Jun-2024 03:43 | 1.2K | ||
buildbin-summary.dcf | 12-Jun-2024 03:43 | 530 | ||
buildsrc-out.txt | 12-Jun-2024 03:43 | 879 | ||
buildsrc-summary.dcf | 12-Jun-2024 03:43 | 428 | ||
checksrc-out.txt | 12-Jun-2024 03:43 | 3.7K | ||
checksrc-summary.dcf | 12-Jun-2024 03:43 | 444 | ||
install-out.txt | 12-Jun-2024 03:43 | 1.0K | ||
install-summary.dcf | 12-Jun-2024 03:43 | 269 | ||