Name | Last modified | Size | Description | |
---|---|---|---|---|
Parent Directory | - | |||
install-summary.dcf | 05-Mar-2024 01:39 | 276 | ||
install-out.txt | 05-Mar-2024 01:39 | 9.0K | ||
checksrc-summary.dcf | 05-Mar-2024 01:39 | 462 | ||
checksrc-out.txt | 05-Mar-2024 01:39 | 4.7K | ||
buildsrc-summary.dcf | 05-Mar-2024 01:39 | 437 | ||
buildsrc-out.txt | 05-Mar-2024 01:39 | 1.3K | ||
buildbin-summary.dcf | 05-Mar-2024 01:39 | 549 | ||
buildbin-out.txt | 05-Mar-2024 01:39 | 11K | ||