Index of /checkResults/release/bioc-LATEST/metavizr/raw-results/nebbiolo2
Name
Last modified
Size
Description
Parent Directory
-
buildsrc-out.txt
21-Apr-2023 01:50
1.0K
buildsrc-summary.dcf
21-Apr-2023 01:50
335
install-out.txt
21-Apr-2023 01:50
1.5K
install-summary.dcf
21-Apr-2023 01:50
261