Name | Last modified | Size | Description | |
---|---|---|---|---|
Parent Directory | - | |||
checksrc-out.txt | 27-Jul-2024 06:39 | 4.3K | ||
buildbin-out.txt | 27-Jul-2024 06:39 | 1.8K | ||
install-out.txt | 27-Jul-2024 06:39 | 1.7K | ||
buildsrc-out.txt | 27-Jul-2024 06:39 | 941 | ||
buildbin-summary.dcf | 27-Jul-2024 06:39 | 528 | ||
buildsrc-summary.dcf | 27-Jul-2024 06:39 | 461 | ||
checksrc-summary.dcf | 27-Jul-2024 06:39 | 455 | ||
install-summary.dcf | 27-Jul-2024 06:39 | 273 | ||