Index of /checkResults/release/bioc-LATEST/metaseqR2/raw-results/lconway

[ICO]NameLast modifiedSizeDescription

[DIR]Parent Directory  -  
[TXT]buildbin-out.txt03-Mar-2024 01:37 3.8K 
[   ]buildbin-summary.dcf03-Mar-2024 01:37 543  
[TXT]buildsrc-out.txt03-Mar-2024 01:37 917  
[   ]buildsrc-summary.dcf03-Mar-2024 01:37 434  
[TXT]checksrc-out.txt03-Mar-2024 01:37 4.1K 
[   ]checksrc-summary.dcf03-Mar-2024 01:37 452  
[TXT]install-out.txt03-Mar-2024 01:37 1.8K 
[   ]install-summary.dcf03-Mar-2024 01:37 273