Index of /checkResults/release/bioc-LATEST/metaseqR2/raw-results/kunpeng2

[ICO]NameLast modifiedSizeDescription

[DIR]Parent Directory  -  
[   ]install-summary.dcf03-Nov-2023 00:40 258  
[TXT]install-out.txt03-Nov-2023 00:40 1.6K 
[   ]checksrc-summary.dcf03-Nov-2023 00:40 429  
[TXT]checksrc-out.txt03-Nov-2023 00:40 5.3K 
[   ]buildsrc-summary.dcf03-Nov-2023 00:40 418  
[TXT]buildsrc-out.txt03-Nov-2023 00:40 901