Name | Last modified | Size | Description | |
---|---|---|---|---|
Parent Directory | - | |||
buildbin-out.txt | 24-Jul-2024 22:06 | 4.5K | ||
buildbin-summary.dcf | 24-Jul-2024 22:06 | 536 | ||
buildsrc-out.txt | 24-Jul-2024 22:06 | 913 | ||
buildsrc-summary.dcf | 24-Jul-2024 22:06 | 430 | ||
checksrc-out.txt | 24-Jul-2024 22:06 | 6.3K | ||
checksrc-summary.dcf | 24-Jul-2024 22:06 | 453 | ||
install-out.txt | 24-Jul-2024 22:06 | 2.6K | ||
install-summary.dcf | 24-Jul-2024 22:06 | 270 | ||