Name | Last modified | Size | Description | |
---|---|---|---|---|
Parent Directory | - | |||
install-summary.dcf | 12-Jun-2024 03:42 | 271 | ||
install-out.txt | 12-Jun-2024 03:42 | 2.6K | ||
checksrc-summary.dcf | 12-Jun-2024 03:42 | 453 | ||
checksrc-out.txt | 12-Jun-2024 03:42 | 6.3K | ||
buildsrc-summary.dcf | 12-Jun-2024 03:42 | 430 | ||
buildsrc-out.txt | 12-Jun-2024 03:42 | 913 | ||
buildbin-summary.dcf | 12-Jun-2024 03:42 | 535 | ||
buildbin-out.txt | 12-Jun-2024 03:42 | 4.5K | ||