![]() | Name | Last modified | Size | Description |
---|---|---|---|---|
![]() | Parent Directory | - | ||
![]() | buildbin-out.txt | 21-Mar-2023 00:06 | 3.4K | |
![]() | buildbin-summary.dcf | 21-Mar-2023 00:06 | 535 | |
![]() | buildsrc-out.txt | 21-Mar-2023 00:06 | 913 | |
![]() | buildsrc-summary.dcf | 21-Mar-2023 00:06 | 430 | |
![]() | checksrc-out.txt | 21-Mar-2023 00:06 | 6.1K | |
![]() | checksrc-summary.dcf | 21-Mar-2023 00:06 | 453 | |
![]() | install-out.txt | 21-Mar-2023 00:06 | 2.5K | |
![]() | install-summary.dcf | 21-Mar-2023 00:06 | 271 | |