Index of /checkResults/release/bioc-LATEST/metahdep/raw-results
Name
Last modified
Size
Description
Parent Directory
-
kjohnson/
12-Jul-2022 00:06
-
nebbiolo2/
21-Mar-2023 00:05
-
palomino4/
21-Mar-2023 00:05
-
info.dcf
21-Mar-2023 00:06
278
lconway/
21-Mar-2023 00:06
-