Back to Multiple platform build/check report for BioC 3.18:   simplified   long
ABCDEFGHIJKL[M]NOPQRSTUVWXYZ

This page was generated on 2024-02-22 11:36:57 -0500 (Thu, 22 Feb 2024).

HostnameOSArch (*)R versionInstalled pkgs
nebbiolo2Linux (Ubuntu 22.04.3 LTS)x86_644.3.2 Patched (2023-11-13 r85521) -- "Eye Holes" 4691
palomino4Windows Server 2022 Datacenterx644.3.2 (2023-10-31 ucrt) -- "Eye Holes" 4444
lconwaymacOS 12.7.1 Montereyx86_644.3.2 Patched (2023-11-01 r85457) -- "Eye Holes" 4465
Click on any hostname to see more info about the system (e.g. compilers)      (*) as reported by 'uname -p', except on Windows and Mac OS X

Package 1207/2266HostnameOS / ArchINSTALLBUILDCHECKBUILD BIN
metahdep 1.60.0  (landing page)
John R. Stevens
Snapshot Date: 2024-02-21 14:05:05 -0500 (Wed, 21 Feb 2024)
git_url: https://git.bioconductor.org/packages/metahdep
git_branch: RELEASE_3_18
git_last_commit: 187c10d
git_last_commit_date: 2023-10-24 09:41:28 -0500 (Tue, 24 Oct 2023)
nebbiolo2Linux (Ubuntu 22.04.3 LTS) / x86_64  OK    OK    WARNINGS  UNNEEDED, same version is already published
palomino4Windows Server 2022 Datacenter / x64  OK    OK    WARNINGS    OK  UNNEEDED, same version is already published
lconwaymacOS 12.7.1 Monterey / x86_64  OK    OK    WARNINGS    OK  UNNEEDED, same version is already published
kjohnson1macOS 13.6.1 Ventura / arm64see weekly results here

INSTALL results for metahdep on palomino4


To the developers/maintainers of the metahdep package:
- Allow up to 24 hours (and sometimes 48 hours) for your latest push to git@git.bioconductor.org:packages/metahdep.git to reflect on this report. See Troubleshooting Build Report for more information.
- Use the following Renviron settings to reproduce errors and warnings.
- If 'R CMD check' started to fail recently on the Linux builder(s) over a missing dependency, add the missing dependency to 'Suggests:' in your DESCRIPTION file. See Renviron.bioc for more information.

raw results


Summary

Package: metahdep
Version: 1.60.0
Command: F:\biocbuild\bbs-3.18-bioc\R\bin\R.exe CMD INSTALL metahdep
StartedAt: 2024-02-21 15:31:44 -0500 (Wed, 21 Feb 2024)
EndedAt: 2024-02-21 15:31:56 -0500 (Wed, 21 Feb 2024)
EllapsedTime: 11.6 seconds
RetCode: 0
Status:   OK  

Command output

##############################################################################
##############################################################################
###
### Running command:
###
###   F:\biocbuild\bbs-3.18-bioc\R\bin\R.exe CMD INSTALL metahdep
###
##############################################################################
##############################################################################


* installing to library 'F:/biocbuild/bbs-3.18-bioc/R/library'
* installing *source* package 'metahdep' ...
** using staged installation
** libs
using C compiler: 'gcc.exe (GCC) 12.3.0'
gcc  -I"F:/biocbuild/bbs-3.18-bioc/R/include" -DNDEBUG     -I"C:/rtools43/x86_64-w64-mingw32.static.posix/include"     -O2 -Wall  -mfpmath=sse -msse2 -mstackrealign  -c metahdep.c -o metahdep.o
In file included from metahdep.c:3:
metahdep.c: In function 'get_row_indices2':
F:/biocbuild/bbs-3.18-bioc/R/include/Rinternals.h:197:17: warning: passing argument 5 of 'metan_binary_search_unique' makes integer from pointer without a cast [-Wint-conversion]
  197 | #define CHAR(x) R_CHAR(x)
      |                 ^~~~~~~~~
      |                 |
      |                 const char *
metahdep.c:471:107: note: in expansion of macro 'CHAR'
  471 |                                 index = metan_binary_search_unique(name_list, sort_index, R_old_names, j, CHAR(STRING_ELT(R_old_chipsets, j)), i);
      |                                                                                                           ^~~~
metahdep.c:372:103: note: expected 'char' but argument is of type 'const char *'
  372 | SEXP metan_binary_search_unique(SEXP name_list, SEXP sort_index, SEXP gene_name, int gene_index, char chipset_name, int study_num)
      |                                                                                                  ~~~~~^~~~~~~~~~~~
gcc -shared -s -static-libgcc -o metahdep.dll tmp.def metahdep.o -LC:/rtools43/x86_64-w64-mingw32.static.posix/lib/x64 -LC:/rtools43/x86_64-w64-mingw32.static.posix/lib -LF:/biocbuild/bbs-3.18-bioc/R/bin/x64 -lR
installing to F:/biocbuild/bbs-3.18-bioc/R/library/00LOCK-metahdep/00new/metahdep/libs/x64
** R
** data
** byte-compile and prepare package for lazy loading
** help
*** installing help indices
** building package indices
** installing vignettes
** testing if installed package can be loaded from temporary location
** testing if installed package can be loaded from final location
** testing if installed package keeps a record of temporary installation path
* DONE (metahdep)