Back to Multiple platform build/check report for BioC 3.17:   simplified   long
ABCDEFGHIJKL[M]NOPQRSTUVWXYZ

This page was generated on 2023-09-27 11:35:46 -0400 (Wed, 27 Sep 2023).

HostnameOSArch (*)R versionInstalled pkgs
nebbiolo1Linux (Ubuntu 22.04.2 LTS)x86_644.3.1 (2023-06-16) -- "Beagle Scouts" 4625
palomino3Windows Server 2022 Datacenterx644.3.1 (2023-06-16 ucrt) -- "Beagle Scouts" 4378
merida1macOS 12.6.4 Montereyx86_644.3.1 (2023-06-16) -- "Beagle Scouts" 4394
Click on any hostname to see more info about the system (e.g. compilers)      (*) as reported by 'uname -p', except on Windows and Mac OS X

Package 1176/2230HostnameOS / ArchINSTALLBUILDCHECKBUILD BIN
metagenomeSeq 1.42.0  (landing page)
Joseph N. Paulson
Snapshot Date: 2023-09-26 14:00:14 -0400 (Tue, 26 Sep 2023)
git_url: https://git.bioconductor.org/packages/metagenomeSeq
git_branch: RELEASE_3_17
git_last_commit: 5ecb4dd
git_last_commit_date: 2023-04-25 10:26:39 -0400 (Tue, 25 Apr 2023)
nebbiolo1Linux (Ubuntu 22.04.2 LTS) / x86_64  OK    OK    ERROR  
palomino3Windows Server 2022 Datacenter / x64  OK    OK    ERROR    OK  
merida1macOS 12.6.4 Monterey / x86_64  OK    OK    ERROR    OK  

CHECK results for metagenomeSeq on nebbiolo1


To the developers/maintainers of the metagenomeSeq package:
- Allow up to 24 hours (and sometimes 48 hours) for your latest push to git@git.bioconductor.org:packages/metagenomeSeq.git to reflect on this report. See Troubleshooting Build Report for more information.
- Use the following Renviron settings to reproduce errors and warnings.
- If 'R CMD check' started to fail recently on the Linux builder(s) over a missing dependency, add the missing dependency to 'Suggests:' in your DESCRIPTION file. See Renviron.bioc for more information.

raw results


Summary

Package: metagenomeSeq
Version: 1.42.0
Command: /home/biocbuild/bbs-3.17-bioc/R/bin/R CMD check --install=check:metagenomeSeq.install-out.txt --library=/home/biocbuild/bbs-3.17-bioc/R/site-library --timings metagenomeSeq_1.42.0.tar.gz
StartedAt: 2023-09-26 22:44:31 -0400 (Tue, 26 Sep 2023)
EndedAt: 2023-09-26 22:48:53 -0400 (Tue, 26 Sep 2023)
EllapsedTime: 261.8 seconds
RetCode: 1
Status:   ERROR  
CheckDir: metagenomeSeq.Rcheck
Warnings: NA

Command output

##############################################################################
##############################################################################
###
### Running command:
###
###   /home/biocbuild/bbs-3.17-bioc/R/bin/R CMD check --install=check:metagenomeSeq.install-out.txt --library=/home/biocbuild/bbs-3.17-bioc/R/site-library --timings metagenomeSeq_1.42.0.tar.gz
###
##############################################################################
##############################################################################


* using log directory ‘/home/biocbuild/bbs-3.17-bioc/meat/metagenomeSeq.Rcheck’
* using R version 4.3.1 (2023-06-16)
* using platform: x86_64-pc-linux-gnu (64-bit)
* R was compiled by
    gcc (Ubuntu 11.3.0-1ubuntu1~22.04.1) 11.3.0
    GNU Fortran (Ubuntu 11.3.0-1ubuntu1~22.04.1) 11.3.0
* running under: Ubuntu 22.04.3 LTS
* using session charset: UTF-8
* checking for file ‘metagenomeSeq/DESCRIPTION’ ... OK
* this is package ‘metagenomeSeq’ version ‘1.42.0’
* checking package namespace information ... OK
* checking package dependencies ... OK
* checking if this is a source package ... OK
* checking if there is a namespace ... OK
* checking for hidden files and directories ... OK
* checking for portable file names ... OK
* checking for sufficient/correct file permissions ... OK
* checking whether package ‘metagenomeSeq’ can be installed ... OK
* checking installed package size ... OK
* checking package directory ... OK
* checking ‘build’ directory ... OK
* checking DESCRIPTION meta-information ... OK
* checking top-level files ... OK
* checking for left-over files ... OK
* checking index information ... OK
* checking package subdirectories ... OK
* checking R files for non-ASCII characters ... OK
* checking R files for syntax errors ... OK
* checking whether the package can be loaded ... OK
* checking whether the package can be loaded with stated dependencies ... OK
* checking whether the package can be unloaded cleanly ... OK
* checking whether the namespace can be loaded with stated dependencies ... OK
* checking whether the namespace can be unloaded cleanly ... OK
* checking loading without being on the library search path ... OK
* checking dependencies in R code ... OK
* checking S3 generic/method consistency ... OK
* checking replacement functions ... OK
* checking foreign function calls ... OK
* checking R code for possible problems ... OK
* checking Rd files ... OK
* checking Rd metadata ... OK
* checking Rd cross-references ... OK
* checking for missing documentation entries ... OK
* checking for code/documentation mismatches ... OK
* checking Rd \usage sections ... OK
* checking Rd contents ... OK
* checking for unstated dependencies in examples ... OK
* checking contents of ‘data’ directory ... OK
* checking data for non-ASCII characters ... OK
* checking data for ASCII and uncompressed saves ... OK
* checking files in ‘vignettes’ ... OK
* checking examples ... OK
Examples with CPU (user + system) or elapsed time > 5s
              user system elapsed
wrenchNorm  13.178  0.163  13.341
MRfulltable  0.902  0.060   5.225
* checking for unstated dependencies in ‘tests’ ... OK
* checking tests ...
  Running ‘testthat.R’
 ERROR
Running the tests in ‘tests/testthat.R’ failed.
Last 13 lines of output:
  Loaded glmnet 4.1-8
  Loading required package: RColorBrewer
  [ FAIL 2 | WARN 6 | SKIP 0 | PASS 13 ]
  
  ══ Failed tests ════════════════════════════════════════════════════════════════
  ── Failure ('test-norm.R:28:3'): `cumNormStat` returns the correct value ───────
  cumNormStat(lungData) not equal to 0.7014946.
  names for target but not for current
  ── Failure ('test-norm.R:34:3'): `cumNormStatFast` returns the correct value ───
  cumNormStatFast(lungData) not equal to 0.7014946.
  names for target but not for current
  
  [ FAIL 2 | WARN 6 | SKIP 0 | PASS 13 ]
  Error: Test failures
  Execution halted
* checking for unstated dependencies in vignettes ... OK
* checking package vignettes in ‘inst/doc’ ... OK
* checking running R code from vignettes ...
  ‘fitTimeSeries.Rnw’... OK
  ‘metagenomeSeq.Rnw’... OK
 NONE
* checking re-building of vignette outputs ... OK
* checking PDF version of manual ... OK
* DONE

Status: 1 ERROR
See
  ‘/home/biocbuild/bbs-3.17-bioc/meat/metagenomeSeq.Rcheck/00check.log’
for details.


Installation output

metagenomeSeq.Rcheck/00install.out

##############################################################################
##############################################################################
###
### Running command:
###
###   /home/biocbuild/bbs-3.17-bioc/R/bin/R CMD INSTALL metagenomeSeq
###
##############################################################################
##############################################################################


* installing to library ‘/home/biocbuild/bbs-3.17-bioc/R/site-library’
* installing *source* package ‘metagenomeSeq’ ...
** using staged installation
** R
** data
** inst
** byte-compile and prepare package for lazy loading
in method for ‘MRihw’ with signature ‘"fitFeatureModelResults"’: no definition for class “fitFeatureModelResults”
in method for ‘MRihw’ with signature ‘"fitZigResults"’: no definition for class “fitZigResults”
** help
*** installing help indices
** building package indices
** installing vignettes
** testing if installed package can be loaded from temporary location
** testing if installed package can be loaded from final location
** testing if installed package keeps a record of temporary installation path
* DONE (metagenomeSeq)

Tests output

metagenomeSeq.Rcheck/tests/testthat.Rout.fail


R version 4.3.1 (2023-06-16) -- "Beagle Scouts"
Copyright (C) 2023 The R Foundation for Statistical Computing
Platform: x86_64-pc-linux-gnu (64-bit)

R is free software and comes with ABSOLUTELY NO WARRANTY.
You are welcome to redistribute it under certain conditions.
Type 'license()' or 'licence()' for distribution details.

R is a collaborative project with many contributors.
Type 'contributors()' for more information and
'citation()' on how to cite R or R packages in publications.

Type 'demo()' for some demos, 'help()' for on-line help, or
'help.start()' for an HTML browser interface to help.
Type 'q()' to quit R.

> library("testthat")
> packageVersion("metagenomeSeq")
[1] '1.42.0'
> # As suggested for opt-out option on testing by users, 
> # recommended by CRAN: http://adv-r.had.co.nz/Testing.html
> # Previously, best practice was to put all test files in inst/tests 
> # and ensure that R CMD check ran them by putting the following code in tests/test-all.R:  
> # >library(testthat)
> # >library(yourpackage)
> # >test_package("yourpackage")
> # Now, recommended practice is to put your tests in tests/testthat, 
> # and ensure R CMD check runs them by putting the following code in tests/test-all.R:
> # >library(testthat)
> # >test_check("yourpackage")
> # The advantage of this new structure is that the user has control over whether or not tests are installed using the –install-tests parameter to 
> # R CMD install, or INSTALL_opts = c(“–install-tests”) argument to install.packages(). I’m not sure why you wouldn’t want to install the tests, 
> # but now you have the flexibility as requested by CRAN maintainers.
> test_check("metagenomeSeq")
Loading required package: metagenomeSeq
Loading required package: Biobase
Loading required package: BiocGenerics

Attaching package: 'BiocGenerics'

The following objects are masked from 'package:stats':

    IQR, mad, sd, var, xtabs

The following objects are masked from 'package:base':

    Filter, Find, Map, Position, Reduce, anyDuplicated, aperm, append,
    as.data.frame, basename, cbind, colnames, dirname, do.call,
    duplicated, eval, evalq, get, grep, grepl, intersect, is.unsorted,
    lapply, mapply, match, mget, order, paste, pmax, pmax.int, pmin,
    pmin.int, rank, rbind, rownames, sapply, setdiff, sort, table,
    tapply, union, unique, unsplit, which.max, which.min

Welcome to Bioconductor

    Vignettes contain introductory material; view with
    'browseVignettes()'. To cite Bioconductor, see
    'citation("Biobase")', and for packages 'citation("pkgname")'.

Loading required package: limma

Attaching package: 'limma'

The following object is masked from 'package:BiocGenerics':

    plotMA

Loading required package: glmnet
Loading required package: Matrix
Loaded glmnet 4.1-8
Loading required package: RColorBrewer
[ FAIL 2 | WARN 6 | SKIP 0 | PASS 13 ]

══ Failed tests ════════════════════════════════════════════════════════════════
── Failure ('test-norm.R:28:3'): `cumNormStat` returns the correct value ───────
cumNormStat(lungData) not equal to 0.7014946.
names for target but not for current
── Failure ('test-norm.R:34:3'): `cumNormStatFast` returns the correct value ───
cumNormStatFast(lungData) not equal to 0.7014946.
names for target but not for current

[ FAIL 2 | WARN 6 | SKIP 0 | PASS 13 ]
Error: Test failures
Execution halted

Example timings

metagenomeSeq.Rcheck/metagenomeSeq-Ex.timings

nameusersystemelapsed
MRcoefs1.0090.0801.090
MRcounts0.4430.0240.467
MRexperiment-class0.0010.0000.000
MRfulltable0.9020.0605.225
MRtable0.8770.0070.884
aggregateBySample0.1360.0080.144
aggregateByTaxonomy0.1530.0040.157
biom2MRexperiment0.1950.0080.203
calcNormFactors0.4470.0120.458
correctIndices0.0990.0120.111
correlationTest0.2130.0160.229
cumNorm0.5920.0360.628
cumNormMat0.4420.0200.462
cumNormStat0.4550.0160.471
cumNormStatFast0.3120.0080.320
expSummary0.0970.0080.105
exportMat1.2003.2464.446
exportStats0.5590.0180.577
extractMR0.6911.2611.952
filterData0.1510.0000.152
fitDO0.3790.0052.884
fitFeatureModel1.1540.1871.341
fitLogNormal1.8090.1881.997
fitMultipleTimeSeries1.5710.0071.577
fitPA0.5550.0112.937
fitSSTimeSeries0.3880.0120.400
fitTimeSeries0.3870.0080.395
fitZig1.7410.0431.784
libSize-set0.2820.0080.290
libSize0.2800.0010.281
loadBiom0.0340.0020.036
loadMeta0.0160.0000.017
loadMetaQ000
loadPhenoData0.0080.0000.008
makeLabels0.0010.0000.000
mergeMRexperiments1.2300.1521.382
newMRexperiment0.0270.0000.027
normFactors-set0.3100.0080.318
normFactors0.2750.0000.275
plotBubble0.2540.0142.675
plotClassTimeSeries0.9630.0130.975
plotCorr0.4190.0150.435
plotFeature0.1410.0030.145
plotGenus0.1210.0040.125
plotMRheatmap1.8540.0321.885
plotOTU0.1150.0160.130
plotOrd0.1890.0120.200
plotRare0.1110.0080.118
plotTimeSeries0.9180.0080.925
posteriorProbs1.5480.0241.572
returnAppropriateObj0.2790.0160.295
ssFit0.0010.0000.000
ssIntervalCandidate000
ssPerm0.0000.0000.001
ssPermAnalysis000
trapz0.0000.0010.000
ts2MRexperiment1.5350.0201.554
uniqueFeatures0.1090.0140.122
wrenchNorm13.178 0.16313.341
zigControl0.0000.0000.001