Name | Last modified | Size | Description | |
---|---|---|---|---|
Parent Directory | - | |||
install-summary.dcf | 17-Jul-2024 06:41 | 299 | ||
buildsrc-summary.dcf | 17-Jul-2024 06:41 | 473 | ||
checksrc-summary.dcf | 17-Jul-2024 06:41 | 504 | ||
buildbin-summary.dcf | 17-Jul-2024 06:41 | 620 | ||
install-out.txt | 17-Jul-2024 06:41 | 1.0K | ||
buildbin-out.txt | 17-Jul-2024 06:41 | 1.3K | ||
checksrc-out.txt | 17-Jul-2024 06:41 | 5.9K | ||
buildsrc-out.txt | 17-Jul-2024 06:41 | 6.8K | ||