Index of /checkResults/release/bioc-LATEST/meshes/raw-results

[ICO]NameLast modifiedSizeDescription

[DIR]Parent Directory  -  
[   ]info.dcf08-Jun-2023 00:07 274  
[DIR]merida1/08-Jun-2023 00:07 -  
[DIR]nebbiolo1/08-Jun-2023 00:05 -  
[DIR]palomino3/08-Jun-2023 00:06 -