Name | Last modified | Size | Description | |
---|---|---|---|---|
Parent Directory | - | |||
install-summary.dcf | 12-Jun-2024 03:43 | 265 | ||
install-out.txt | 12-Jun-2024 03:43 | 1.0K | ||
checksrc-summary.dcf | 12-Jun-2024 03:43 | 442 | ||
checksrc-out.txt | 12-Jun-2024 03:43 | 4.4K | ||
buildsrc-summary.dcf | 12-Jun-2024 03:43 | 422 | ||
buildsrc-out.txt | 12-Jun-2024 03:43 | 808 | ||
buildbin-summary.dcf | 12-Jun-2024 03:43 | 518 | ||
buildbin-out.txt | 12-Jun-2024 03:43 | 1.2K | ||