Index of /checkResults/release/bioc-LATEST/megadepth/raw-results/riesling1

[ICO]NameLast modifiedSizeDescription

[DIR]Parent Directory  -  
[TXT]buildbin-out.txt19-Mar-2022 00:07 1.6K 
[   ]buildbin-summary.dcf19-Mar-2022 00:07 524  
[TXT]buildsrc-out.txt19-Mar-2022 00:07 885  
[   ]buildsrc-summary.dcf19-Mar-2022 00:07 458  
[TXT]checksrc-out.txt19-Mar-2022 00:07 3.1K 
[   ]checksrc-summary.dcf19-Mar-2022 00:07 453  
[TXT]install-out.txt19-Mar-2022 00:07 1.6K 
[   ]install-summary.dcf19-Mar-2022 00:07 271