Index of /checkResults/release/bioc-LATEST/megadepth/raw-results/nebbiolo1

[ICO]NameLast modifiedSizeDescription

[DIR]Parent Directory  -  
[TXT]buildsrc-out.txt11-Aug-2022 04:39 853  
[   ]buildsrc-summary.dcf11-Aug-2022 04:39 419  
[TXT]checksrc-out.txt11-Aug-2022 04:39 3.1K 
[   ]checksrc-summary.dcf11-Aug-2022 04:39 430  
[TXT]install-out.txt11-Aug-2022 04:39 953  
[   ]install-summary.dcf11-Aug-2022 04:39 262