Index of /checkResults/release/bioc-LATEST/megadepth/raw-results/merida1

[ICO]NameLast modifiedSizeDescription

[DIR]Parent Directory  -  
[TXT]buildbin-out.txt11-Aug-2022 04:40 1.2K 
[   ]buildbin-summary.dcf11-Aug-2022 04:40 539  
[TXT]buildsrc-out.txt11-Aug-2022 04:40 863  
[   ]buildsrc-summary.dcf11-Aug-2022 04:40 431  
[TXT]checksrc-out.txt11-Aug-2022 04:40 3.2K 
[   ]checksrc-summary.dcf11-Aug-2022 04:40 450  
[TXT]install-out.txt11-Aug-2022 04:40 1.0K 
[   ]install-summary.dcf11-Aug-2022 04:40 272