Index of /checkResults/release/bioc-LATEST/mbQTL/raw-results/palomino3

[ICO]NameLast modifiedSizeDescription

[DIR]Parent Directory  -  
[TXT]buildbin-out.txt22-Jun-2024 06:39 1.1K 
[   ]buildbin-summary.dcf22-Jun-2024 06:39 500  
[TXT]buildsrc-out.txt22-Jun-2024 06:39 888  
[   ]buildsrc-summary.dcf22-Jun-2024 06:39 443  
[TXT]checksrc-out.txt22-Jun-2024 06:39 3.3K 
[   ]checksrc-summary.dcf22-Jun-2024 06:39 437  
[TXT]install-out.txt22-Jun-2024 06:39 965  
[   ]install-summary.dcf22-Jun-2024 06:39 263