Index of /checkResults/release/bioc-LATEST/mbQTL/raw-results/nebbiolo1

[ICO]NameLast modifiedSizeDescription

[DIR]Parent Directory  -  
[TXT]buildsrc-out.txt15-Jun-2024 03:37 860  
[   ]buildsrc-summary.dcf15-Jun-2024 03:37 409  
[TXT]checksrc-out.txt15-Jun-2024 03:37 3.3K 
[   ]checksrc-summary.dcf15-Jun-2024 03:37 404  
[TXT]install-out.txt15-Jun-2024 03:37 954  
[   ]install-summary.dcf15-Jun-2024 03:37 253