Index of /checkResults/release/bioc-LATEST/mbQTL/raw-results/merida1

[ICO]NameLast modifiedSizeDescription

[DIR]Parent Directory  -  
[   ]install-summary.dcf20-Jul-2024 06:40 264  
[TXT]install-out.txt20-Jul-2024 06:40 1.0K 
[   ]checksrc-summary.dcf20-Jul-2024 06:40 434  
[TXT]checksrc-out.txt20-Jul-2024 06:40 3.3K 
[   ]buildsrc-summary.dcf20-Jul-2024 06:40 420  
[TXT]buildsrc-out.txt20-Jul-2024 06:40 870  
[   ]buildbin-summary.dcf20-Jul-2024 06:40 515  
[TXT]buildbin-out.txt20-Jul-2024 06:40 1.1K