Index of /checkResults/release/bioc-LATEST/mbQTL/raw-results/kjohnson1

[ICO]NameLast modifiedSizeDescription

[DIR]Parent Directory  -  
[TXT]buildbin-out.txt17-Jul-2024 06:42 1.1K 
[   ]buildbin-summary.dcf17-Jul-2024 06:42 514  
[TXT]buildsrc-out.txt17-Jul-2024 06:42 870  
[   ]buildsrc-summary.dcf17-Jul-2024 06:42 418  
[TXT]checksrc-out.txt17-Jul-2024 06:42 3.3K 
[   ]checksrc-summary.dcf17-Jul-2024 06:42 433  
[TXT]install-out.txt17-Jul-2024 06:42 1.0K 
[   ]install-summary.dcf17-Jul-2024 06:42 264