Index of /checkResults/release/bioc-LATEST/matter/raw-results/riesling1

[ICO]NameLast modifiedSizeDescription

[DIR]Parent Directory  -  
[TXT]buildbin-out.txt19-Mar-2022 00:07 7.7K 
[   ]buildbin-summary.dcf19-Mar-2022 00:07 509  
[TXT]buildsrc-out.txt19-Mar-2022 00:07 926  
[   ]buildsrc-summary.dcf19-Mar-2022 00:07 449  
[TXT]checksrc-out.txt19-Mar-2022 00:07 3.9K 
[   ]checksrc-summary.dcf19-Mar-2022 00:07 442  
[TXT]install-out.txt19-Mar-2022 00:07 7.6K 
[   ]install-summary.dcf19-Mar-2022 00:07 266