Index of /checkResults/release/bioc-LATEST/matter/raw-results/palomino3

[ICO]NameLast modifiedSizeDescription

[DIR]Parent Directory  -  
[TXT]buildbin-out.txt02-Jul-2022 01:06 5.5K 
[   ]buildbin-summary.dcf02-Jul-2022 01:06 509  
[TXT]buildsrc-out.txt02-Jul-2022 01:06 926  
[   ]buildsrc-summary.dcf02-Jul-2022 01:06 449  
[TXT]checksrc-out.txt02-Jul-2022 01:06 4.1K 
[   ]checksrc-summary.dcf02-Jul-2022 01:06 449  
[TXT]install-out.txt02-Jul-2022 01:06 5.3K 
[   ]install-summary.dcf02-Jul-2022 01:06 266