Back to Multiple platform build/check report for BioC 3.14
ABCDEFGHIJKL[M]NOPQRSTUVWXYZ

This page was generated on 2022-01-21 13:05:21 -0500 (Fri, 21 Jan 2022).

HostnameOSArch (*)R versionInstalled pkgs
nebbiolo2Linux (Ubuntu 20.04.4 LTS)x86_644.1.2 (2021-11-01) -- "Bird Hippie" 4329
tokay2Windows Server 2012 R2 Standardx644.1.2 (2021-11-01) -- "Bird Hippie" 4079
machv2macOS 10.14.6 Mojavex86_644.1.2 (2021-11-01) -- "Bird Hippie" 4140
Click on any hostname to see more info about the system (e.g. compilers)      (*) as reported by 'uname -p', except on Windows and Mac OS X

CHECK results for matter on nebbiolo2


To the developers/maintainers of the matter package:
- Please allow up to 24 hours (and sometimes 48 hours) for your latest push to git@git.bioconductor.org:packages/matter.git to
reflect on this report. See How and When does the builder pull? When will my changes propagate? here for more information.
- Make sure to use the following settings in order to reproduce any error or warning you see on this page.

raw results

Package 1060/2083HostnameOS / ArchINSTALLBUILDCHECKBUILD BIN
matter 1.20.0  (landing page)
Kylie A. Bemis
Snapshot Date: 2022-01-20 01:55:04 -0500 (Thu, 20 Jan 2022)
git_url: https://git.bioconductor.org/packages/matter
git_branch: RELEASE_3_14
git_last_commit: 60a913c
git_last_commit_date: 2021-10-26 12:30:43 -0500 (Tue, 26 Oct 2021)
nebbiolo2Linux (Ubuntu 20.04.4 LTS) / x86_64  OK    OK    OK  UNNEEDED, same version is already published
tokay2Windows Server 2012 R2 Standard / x64  OK    OK    OK    OK  UNNEEDED, same version is already published
machv2macOS 10.14.6 Mojave / x86_64  OK    OK    OK    OK  UNNEEDED, same version is already published

Summary

Package: matter
Version: 1.20.0
Command: /home/biocbuild/bbs-3.14-bioc/R/bin/R CMD check --install=check:matter.install-out.txt --library=/home/biocbuild/bbs-3.14-bioc/R/library --no-vignettes --timings matter_1.20.0.tar.gz
StartedAt: 2022-01-20 08:15:11 -0500 (Thu, 20 Jan 2022)
EndedAt: 2022-01-20 08:16:25 -0500 (Thu, 20 Jan 2022)
EllapsedTime: 74.2 seconds
RetCode: 0
Status:   OK  
CheckDir: matter.Rcheck
Warnings: 0

Command output

##############################################################################
##############################################################################
###
### Running command:
###
###   /home/biocbuild/bbs-3.14-bioc/R/bin/R CMD check --install=check:matter.install-out.txt --library=/home/biocbuild/bbs-3.14-bioc/R/library --no-vignettes --timings matter_1.20.0.tar.gz
###
##############################################################################
##############################################################################


* using log directory ‘/home/biocbuild/bbs-3.14-bioc/meat/matter.Rcheck’
* using R version 4.1.2 (2021-11-01)
* using platform: x86_64-pc-linux-gnu (64-bit)
* using session charset: UTF-8
* using option ‘--no-vignettes’
* checking for file ‘matter/DESCRIPTION’ ... OK
* checking extension type ... Package
* this is package ‘matter’ version ‘1.20.0’
* checking package namespace information ... OK
* checking package dependencies ... OK
* checking if this is a source package ... OK
* checking if there is a namespace ... OK
* checking for hidden files and directories ... OK
* checking for portable file names ... OK
* checking for sufficient/correct file permissions ... OK
* checking whether package ‘matter’ can be installed ... OK
* checking installed package size ... NOTE
  installed size is  6.5Mb
  sub-directories of 1Mb or more:
    R      1.8Mb
    libs   4.3Mb
* checking package directory ... OK
* checking ‘build’ directory ... OK
* checking DESCRIPTION meta-information ... OK
* checking top-level files ... OK
* checking for left-over files ... OK
* checking index information ... OK
* checking package subdirectories ... OK
* checking R files for non-ASCII characters ... OK
* checking R files for syntax errors ... OK
* checking whether the package can be loaded ... OK
* checking whether the package can be loaded with stated dependencies ... OK
* checking whether the package can be unloaded cleanly ... OK
* checking whether the namespace can be loaded with stated dependencies ... OK
* checking whether the namespace can be unloaded cleanly ... OK
* checking dependencies in R code ... OK
* checking S3 generic/method consistency ... OK
* checking replacement functions ... OK
* checking foreign function calls ... OK
* checking R code for possible problems ... OK
* checking Rd files ... OK
* checking Rd metadata ... OK
* checking Rd cross-references ... OK
* checking for missing documentation entries ... OK
* checking for code/documentation mismatches ... OK
* checking Rd \usage sections ... OK
* checking Rd contents ... OK
* checking for unstated dependencies in examples ... OK
* checking contents of ‘data’ directory ... OK
* checking data for non-ASCII characters ... OK
* checking data for ASCII and uncompressed saves ... OK
* checking line endings in C/C++/Fortran sources/headers ... OK
* checking compiled code ... NOTE
Note: information on .o files is not available
* checking files in ‘vignettes’ ... OK
* checking examples ... OK
* checking for unstated dependencies in ‘tests’ ... OK
* checking tests ...
  Running ‘testthat.R’
 OK
* checking for unstated dependencies in vignettes ... OK
* checking package vignettes in ‘inst/doc’ ... OK
* checking running R code from vignettes ... SKIPPED
* checking re-building of vignette outputs ... SKIPPED
* checking PDF version of manual ... OK
* DONE

Status: 2 NOTEs
See
  ‘/home/biocbuild/bbs-3.14-bioc/meat/matter.Rcheck/00check.log’
for details.



Installation output

matter.Rcheck/00install.out

##############################################################################
##############################################################################
###
### Running command:
###
###   /home/biocbuild/bbs-3.14-bioc/R/bin/R CMD INSTALL matter
###
##############################################################################
##############################################################################


* installing to library ‘/home/biocbuild/bbs-3.14-bioc/R/library’
* installing *source* package ‘matter’ ...
** using staged installation
** libs
g++ -std=gnu++14 -I"/home/biocbuild/bbs-3.14-bioc/R/include" -DNDEBUG   -I/usr/local/include   -fpic  -g -O2  -Wall -c altrep.cpp -o altrep.o
g++ -std=gnu++14 -I"/home/biocbuild/bbs-3.14-bioc/R/include" -DNDEBUG   -I/usr/local/include   -fpic  -g -O2  -Wall -c bsearch.cpp -o bsearch.o
bsearch.cpp: In function ‘size_t binary_search(T, SEXP, size_t, size_t, double, int, int, bool) [with T = const char*]’:
bsearch.cpp:51:36: warning: ‘result’ may be used uninitialized in this function [-Wmaybe-uninitialized]
   51 |   else if ( mid == right && result > 0 )
      |                             ~~~~~~~^~~
bsearch.cpp: In function ‘size_t binary_search(T, SEXP, size_t, size_t, double, int, int, bool) [with T = double]’:
bsearch.cpp:136:27: warning: ‘diff’ may be used uninitialized in this function [-Wmaybe-uninitialized]
  136 |   else if ( (mid == right && diff > 0) && (nearest || dright < tol) )
      |             ~~~~~~~~~~~~~~^~~~~~~~~~~~
g++ -std=gnu++14 -I"/home/biocbuild/bbs-3.14-bioc/R/include" -DNDEBUG   -I/usr/local/include   -fpic  -g -O2  -Wall -c init.cpp -o init.o
In file included from init.cpp:5:
altrep.h:20:25: warning: ‘MatterAlt_string’ defined but not used [-Wunused-variable]
   20 | static R_altrep_class_t MatterAlt_string;
      |                         ^~~~~~~~~~~~~~~~
altrep.h:19:25: warning: ‘MatterAlt_real’ defined but not used [-Wunused-variable]
   19 | static R_altrep_class_t MatterAlt_real;
      |                         ^~~~~~~~~~~~~~
altrep.h:18:25: warning: ‘MatterAlt_integer’ defined but not used [-Wunused-variable]
   18 | static R_altrep_class_t MatterAlt_integer;
      |                         ^~~~~~~~~~~~~~~~~
altrep.h:17:25: warning: ‘MatterAlt_logical’ defined but not used [-Wunused-variable]
   17 | static R_altrep_class_t MatterAlt_logical;
      |                         ^~~~~~~~~~~~~~~~~
altrep.h:16:25: warning: ‘MatterAlt_raw’ defined but not used [-Wunused-variable]
   16 | static R_altrep_class_t MatterAlt_raw;
      |                         ^~~~~~~~~~~~~
g++ -std=gnu++14 -I"/home/biocbuild/bbs-3.14-bioc/R/include" -DNDEBUG   -I/usr/local/include   -fpic  -g -O2  -Wall -c matter.cpp -o matter.o
matter.cpp: In member function ‘void Ops::do_ops(T*, Atoms*, index_t, index_t, size_t) [with T = double]’:
matter.cpp:3409:25: warning: ‘y’ may be used uninitialized in this function [-Wmaybe-uninitialized]
 3409 |                         add<T,T>(x, y, i, atm, 0, count, skip);
      |                         ^~~
matter.cpp: In member function ‘void Ops::do_ops(T*, Atoms*, index_t, index_t, size_t) [with T = int]’:
matter.cpp:3409:25: warning: ‘y’ may be used uninitialized in this function [-Wmaybe-uninitialized]
 3409 |                         add<T,T>(x, y, i, atm, 0, count, skip);
      |                         ^~~
matter.cpp: In member function ‘void Ops::do_ops(T*, Atoms*, index_t, index_t, size_t) [with T = unsigned char]’:
matter.cpp:3409:25: warning: ‘y’ may be used uninitialized in this function [-Wmaybe-uninitialized]
 3409 |                         add<T,T>(x, y, i, atm, 0, count, skip);
      |                         ^~~
g++ -std=gnu++14 -I"/home/biocbuild/bbs-3.14-bioc/R/include" -DNDEBUG   -I/usr/local/include   -fpic  -g -O2  -Wall -c utils.cpp -o utils.o
g++ -std=gnu++14 -I"/home/biocbuild/bbs-3.14-bioc/R/include" -DNDEBUG   -I/usr/local/include   -fpic  -g -O2  -Wall -c vectools.cpp -o vectools.o
g++ -std=gnu++14 -shared -L/home/biocbuild/bbs-3.14-bioc/R/lib -L/usr/local/lib -o matter.so altrep.o bsearch.o init.o matter.o utils.o vectools.o -L/home/biocbuild/bbs-3.14-bioc/R/lib -lR
installing to /home/biocbuild/bbs-3.14-bioc/R/library/00LOCK-matter/00new/matter/libs
** R
** data
** byte-compile and prepare package for lazy loading
Creating a new generic function for ‘apply’ in package ‘matter’
Creating a new generic function for ‘scale’ in package ‘matter’
Creating a new generic function for ‘biglm’ in package ‘matter’
** help
*** installing help indices
** building package indices
** installing vignettes
** testing if installed package can be loaded from temporary location
** checking absolute paths in shared objects and dynamic libraries
** testing if installed package can be loaded from final location
** testing if installed package keeps a record of temporary installation path
* DONE (matter)

Tests output

matter.Rcheck/tests/testthat.Rout


R version 4.1.2 (2021-11-01) -- "Bird Hippie"
Copyright (C) 2021 The R Foundation for Statistical Computing
Platform: x86_64-pc-linux-gnu (64-bit)

R is free software and comes with ABSOLUTELY NO WARRANTY.
You are welcome to redistribute it under certain conditions.
Type 'license()' or 'licence()' for distribution details.

R is a collaborative project with many contributors.
Type 'contributors()' for more information and
'citation()' on how to cite R or R packages in publications.

Type 'demo()' for some demos, 'help()' for on-line help, or
'help.start()' for an HTML browser interface to help.
Type 'q()' to quit R.

> library(testthat)
> library(matter)
Loading required package: BiocParallel
Loading required package: Matrix
Loading required package: biglm
Loading required package: DBI

Attaching package: 'matter'

The following object is masked from 'package:biglm':

    biglm

The following objects are masked from 'package:base':

    apply, scale

> 
> test_check("matter")
[ FAIL 0 | WARN 486 | SKIP 0 | PASS 343 ]
> 
> proc.time()
   user  system elapsed 
  8.603   0.383   8.982 

Example timings

matter.Rcheck/matter-Ex.timings

nameusersystemelapsed
apply0.5880.0740.678
biglm0.0290.0010.029
binvec0.0010.0000.001
bsearch0.0010.0000.000
checksum0.0090.0000.010
chunk_apply0.1400.0040.144
colStats0.0160.0000.016
combine-method0.0010.0000.001
combiner-method0.0100.0000.011
delayed-ops0.0070.0000.007
drle-class0.0010.0000.001
keys-method0.0070.0000.007
lapply0.0270.0000.028
locmax000
matter-class0.0220.0000.023
matter_arr-class0.0170.0000.017
matter_df-class0.0550.0040.059
matter_fc-class0.0140.0040.018
matter_list-class0.0110.0000.012
matter_mat-class0.0030.0040.008
matter_str-class0.0080.0000.008
matter_vec-class0.0030.0000.003
prcomp0.0150.0080.023
profmem0.5610.0000.561
rep_vt0.0020.0000.002
scale0.0090.0000.009
sparse_mat-class0.0050.0000.006
stream-stats0.0050.0000.006
struct0.0060.0000.006
summary-stats0.0100.0000.009
tolerance-method0.0050.0000.005
uuid0.0010.0000.001
virtual_mat-class0.0060.0000.006