Index of /checkResults/release/bioc-LATEST/matchBox/raw-results/riesling1

[ICO]NameLast modifiedSizeDescription

[DIR]Parent Directory  -  
[TXT]buildbin-out.txt19-Mar-2022 00:07 1.5K 
[   ]buildbin-summary.dcf19-Mar-2022 00:07 521  
[TXT]buildsrc-out.txt19-Mar-2022 00:07 904  
[   ]buildsrc-summary.dcf19-Mar-2022 00:07 456  
[TXT]checksrc-out.txt19-Mar-2022 00:07 4.4K 
[   ]checksrc-summary.dcf19-Mar-2022 00:07 450  
[TXT]install-out.txt19-Mar-2022 00:07 2.0K 
[   ]install-summary.dcf19-Mar-2022 00:07 270