Index of /checkResults/release/bioc-LATEST/matchBox/raw-results/palomino3

[ICO]NameLast modifiedSizeDescription

[DIR]Parent Directory  -  
[TXT]buildbin-out.txt02-Jul-2022 01:06 1.1K 
[   ]buildbin-summary.dcf02-Jul-2022 01:06 521  
[TXT]buildsrc-out.txt02-Jul-2022 01:06 904  
[   ]buildsrc-summary.dcf02-Jul-2022 01:06 454  
[TXT]checksrc-out.txt02-Jul-2022 01:06 4.4K 
[   ]checksrc-summary.dcf02-Jul-2022 01:06 450  
[TXT]install-out.txt02-Jul-2022 01:06 1.0K 
[   ]install-summary.dcf02-Jul-2022 01:06 270